BEGIN:VCALENDAR
VERSION:2.0
PRODID:-//Centre Gentiane - ECPv6.15.20//NONSGML v1.0//EN
CALSCALE:GREGORIAN
METHOD:PUBLISH
X-WR-CALNAME:Centre Gentiane
X-ORIGINAL-URL:https://www.centre-gentiane.fr
X-WR-CALDESC:Évènements pour Centre Gentiane
REFRESH-INTERVAL;VALUE=DURATION:PT1H
X-Robots-Tag:noindex
X-PUBLISHED-TTL:PT1H
BEGIN:VTIMEZONE
TZID:Europe/Paris
BEGIN:DAYLIGHT
TZOFFSETFROM:+0100
TZOFFSETTO:+0200
TZNAME:CEST
DTSTART:20250330T010000
END:DAYLIGHT
BEGIN:STANDARD
TZOFFSETFROM:+0200
TZOFFSETTO:+0100
TZNAME:CET
DTSTART:20251026T010000
END:STANDARD
BEGIN:DAYLIGHT
TZOFFSETFROM:+0100
TZOFFSETTO:+0200
TZNAME:CEST
DTSTART:20260329T010000
END:DAYLIGHT
BEGIN:STANDARD
TZOFFSETFROM:+0200
TZOFFSETTO:+0100
TZNAME:CET
DTSTART:20261025T010000
END:STANDARD
BEGIN:DAYLIGHT
TZOFFSETFROM:+0100
TZOFFSETTO:+0200
TZNAME:CEST
DTSTART:20270328T010000
END:DAYLIGHT
BEGIN:STANDARD
TZOFFSETFROM:+0200
TZOFFSETTO:+0100
TZNAME:CET
DTSTART:20271031T010000
END:STANDARD
END:VTIMEZONE
BEGIN:VEVENT
DTSTART;TZID=Europe/Paris:20260421T090000
DTEND;TZID=Europe/Paris:20260421T100000
DTSTAMP:20260421T115312
CREATED:20251223T211026Z
LAST-MODIFIED:20251223T211026Z
UID:13057-1776762000-1776765600@www.centre-gentiane.fr
SUMMARY:VINIyoga
DESCRIPTION:Encore un yoga différent ! \nLa particularité de ce Yoga ? C’est la réelle synchronisation du souffle avec le mouvement. Le mouvement accompagne le souffle. \nen savoir plus... \n 
URL:https://www.centre-gentiane.fr/event/viniyoga-9/
LOCATION:Isère
END:VEVENT
BEGIN:VEVENT
DTSTART;TZID=Europe/Paris:20260421T090000
DTEND;TZID=Europe/Paris:20260421T140000
DTSTAMP:20260421T115312
CREATED:20251223T210905Z
LAST-MODIFIED:20251223T210905Z
UID:13049-1776762000-1776780000@www.centre-gentiane.fr
SUMMARY:Réflexologie plantaire et palmaire
DESCRIPTION:La réflexologie plantaire et palmaire… \n« Une aide précieuse pour amener légèreté et sérénité dans le corps et la vie de chacun. Venez en faire la belle expérience ! » \nen savoir plus…
URL:https://www.centre-gentiane.fr/event/reflexologie-plantaire-et-palmaire-18/
LOCATION:Centre Gentiane\, 340 Rue du Maniglier\, Pontcharra\, Isère\, 38530\, France
END:VEVENT
BEGIN:VEVENT
DTSTART;TZID=Europe/Paris:20260421T090000
DTEND;TZID=Europe/Paris:20260421T180000
DTSTAMP:20260421T115312
CREATED:20251223T210648Z
LAST-MODIFIED:20251223T210648Z
UID:13045-1776762000-1776794400@www.centre-gentiane.fr
SUMMARY:Sophrologie et énergie
DESCRIPTION:« Apprendre à écouter les « messages de notre corps » pour se sentir de mieux en mieux dans sa Vie ! \nen savoir plus…
URL:https://www.centre-gentiane.fr/event/sophrologie-et-energie-22/
LOCATION:Centre Gentiane\, 340 Rue du Maniglier\, Pontcharra\, Isère\, 38530\, France
END:VEVENT
BEGIN:VEVENT
DTSTART;TZID=Europe/Paris:20260421T101000
DTEND;TZID=Europe/Paris:20260421T111000
DTSTAMP:20260421T115312
CREATED:20251223T211131Z
LAST-MODIFIED:20251223T211131Z
UID:13061-1776766200-1776769800@www.centre-gentiane.fr
SUMMARY:Renforcement musculaire
DESCRIPTION:Renforcement\, équilibre\, coordination\, musculation\, cardio \nen savoir plus… \n 
URL:https://www.centre-gentiane.fr/event/renforcement-musculaire-9/
LOCATION:Centre Gentiane\, 340 Rue du Maniglier\, Pontcharra\, Isère\, 38530\, France
END:VEVENT
BEGIN:VEVENT
DTSTART;TZID=Europe/Paris:20260421T111500
DTEND;TZID=Europe/Paris:20260421T121500
DTSTAMP:20260421T115312
CREATED:20251223T211251Z
LAST-MODIFIED:20251223T211251Z
UID:13065-1776770100-1776773700@www.centre-gentiane.fr
SUMMARY:Yoga SENIORS/Yoga adapté
DESCRIPTION:« Seniors … Conserver votre mobilité\, votre dynamisme vous tient à cœur! » \nCe cours de Yoga vous permettra de mettre votre corps en mouvement en douceur tout en respectant vos possibilités. Alors tentez ? NADINE vous attend dans la joie et la bonne humeur !. \nen savoir plus... \n 
URL:https://www.centre-gentiane.fr/event/yoga-seniors-yoga-adapte-24/
LOCATION:Isère
END:VEVENT
BEGIN:VEVENT
DTSTART;TZID=Europe/Paris:20260421T180000
DTEND;TZID=Europe/Paris:20260421T190000
DTSTAMP:20260421T115312
CREATED:20251223T211407Z
LAST-MODIFIED:20251223T211407Z
UID:13069-1776794400-1776798000@www.centre-gentiane.fr
SUMMARY:Pilâtes
DESCRIPTION:Nouveau pour la rentrée : les exercices de Pilâtes \nen savoir plus... \n 
URL:https://www.centre-gentiane.fr/event/pilates-25/
LOCATION:Centre Gentiane\, 340 Rue du Maniglier\, Pontcharra\, Isère\, 38530\, France
END:VEVENT
BEGIN:VEVENT
DTSTART;TZID=Europe/Paris:20260421T191500
DTEND;TZID=Europe/Paris:20260421T201500
DTSTAMP:20260421T115312
CREATED:20251223T211523Z
LAST-MODIFIED:20251223T211523Z
UID:13073-1776798900-1776802500@www.centre-gentiane.fr
SUMMARY:Viniyoga
DESCRIPTION:Encore un yoga différent ! \nLa particularité de ce Yoga ? C’est la réelle synchronisation du souffle avec le mouvement. Le mouvement accompagne le souffle. \nen savoir plus... \n 
URL:https://www.centre-gentiane.fr/event/viniyoga-51/
LOCATION:Isère
END:VEVENT
END:VCALENDAR