BEGIN:VCALENDAR
VERSION:2.0
PRODID:-//Centre Gentiane - ECPv6.15.20//NONSGML v1.0//EN
CALSCALE:GREGORIAN
METHOD:PUBLISH
X-WR-CALNAME:Centre Gentiane
X-ORIGINAL-URL:https://www.centre-gentiane.fr
X-WR-CALDESC:Évènements pour Centre Gentiane
REFRESH-INTERVAL;VALUE=DURATION:PT1H
X-Robots-Tag:noindex
X-PUBLISHED-TTL:PT1H
BEGIN:VTIMEZONE
TZID:Europe/Paris
BEGIN:DAYLIGHT
TZOFFSETFROM:+0100
TZOFFSETTO:+0200
TZNAME:CEST
DTSTART:20250330T010000
END:DAYLIGHT
BEGIN:STANDARD
TZOFFSETFROM:+0200
TZOFFSETTO:+0100
TZNAME:CET
DTSTART:20251026T010000
END:STANDARD
BEGIN:DAYLIGHT
TZOFFSETFROM:+0100
TZOFFSETTO:+0200
TZNAME:CEST
DTSTART:20260329T010000
END:DAYLIGHT
BEGIN:STANDARD
TZOFFSETFROM:+0200
TZOFFSETTO:+0100
TZNAME:CET
DTSTART:20261025T010000
END:STANDARD
BEGIN:DAYLIGHT
TZOFFSETFROM:+0100
TZOFFSETTO:+0200
TZNAME:CEST
DTSTART:20270328T010000
END:DAYLIGHT
BEGIN:STANDARD
TZOFFSETFROM:+0200
TZOFFSETTO:+0100
TZNAME:CET
DTSTART:20271031T010000
END:STANDARD
END:VTIMEZONE
BEGIN:VEVENT
DTSTART;TZID=Europe/Paris:20260422T123000
DTEND;TZID=Europe/Paris:20260422T131500
DTSTAMP:20260422T120806
CREATED:20260306T101344Z
LAST-MODIFIED:20260326T162615Z
UID:13459-1776861000-1776863700@www.centre-gentiane.fr
SUMMARY:Feel'Pilâtes
DESCRIPTION:Feel’Forme vous propose des cours collectifs de 45 minutes de pilâtes\, \npour vous  permettre  de renforcer l’ensemble des muscles du corps et plus particulièrement les muscles en profondeur\, améliorer la posture\, l’équilibre\, la souplesse\, diminuer les maux de dos et améliorer le bien être mental ! \nen savoir plus
URL:https://www.centre-gentiane.fr/event/feelpilates-2/
LOCATION:Centre Gentiane\, 340 Rue du Maniglier\, Pontcharra\, Isère\, 38530\, France
END:VEVENT
BEGIN:VEVENT
DTSTART;TZID=Europe/Paris:20260422T193000
DTEND;TZID=Europe/Paris:20260422T213000
DTSTAMP:20260422T120806
CREATED:20251223T205445Z
LAST-MODIFIED:20251223T205445Z
UID:13003-1776886200-1776893400@www.centre-gentiane.fr
SUMMARY:Biodanza
DESCRIPTION:Danse de la vie – pratique globale de développement humain \nA noter : séances découvertes touts les mercredis soirs de septembre \nen savoir plus..
URL:https://www.centre-gentiane.fr/event/biodanza-2/
LOCATION:Isère
END:VEVENT
END:VCALENDAR