BEGIN:VCALENDAR
VERSION:2.0
PRODID:-//Centre Gentiane - ECPv6.15.20//NONSGML v1.0//EN
CALSCALE:GREGORIAN
METHOD:PUBLISH
X-WR-CALNAME:Centre Gentiane
X-ORIGINAL-URL:https://www.centre-gentiane.fr
X-WR-CALDESC:Évènements pour Centre Gentiane
REFRESH-INTERVAL;VALUE=DURATION:PT1H
X-Robots-Tag:noindex
X-PUBLISHED-TTL:PT1H
BEGIN:VTIMEZONE
TZID:Europe/Paris
BEGIN:DAYLIGHT
TZOFFSETFROM:+0100
TZOFFSETTO:+0200
TZNAME:CEST
DTSTART:20250330T010000
END:DAYLIGHT
BEGIN:STANDARD
TZOFFSETFROM:+0200
TZOFFSETTO:+0100
TZNAME:CET
DTSTART:20251026T010000
END:STANDARD
BEGIN:DAYLIGHT
TZOFFSETFROM:+0100
TZOFFSETTO:+0200
TZNAME:CEST
DTSTART:20260329T010000
END:DAYLIGHT
BEGIN:STANDARD
TZOFFSETFROM:+0200
TZOFFSETTO:+0100
TZNAME:CET
DTSTART:20261025T010000
END:STANDARD
BEGIN:DAYLIGHT
TZOFFSETFROM:+0100
TZOFFSETTO:+0200
TZNAME:CEST
DTSTART:20270328T010000
END:DAYLIGHT
BEGIN:STANDARD
TZOFFSETFROM:+0200
TZOFFSETTO:+0100
TZNAME:CET
DTSTART:20271031T010000
END:STANDARD
END:VTIMEZONE
BEGIN:VEVENT
DTSTART;TZID=Europe/Paris:20260423T090000
DTEND;TZID=Europe/Paris:20260423T140000
DTSTAMP:20260423T121546
CREATED:20251223T205617Z
LAST-MODIFIED:20251223T205617Z
UID:13009-1776934800-1776952800@www.centre-gentiane.fr
SUMMARY:Réflexologie plantaire et palmaire
DESCRIPTION:La réflexologie plantaire et palmaire… \n« Une aide précieuse pour amener légèreté et sérénité dans le corps et la vie de chacun. Venez en faire la belle expérience ! » \nen savoir plus…
URL:https://www.centre-gentiane.fr/event/reflexologie-plantaire-et-palmaire-14/
LOCATION:Centre Gentiane\, 340 Rue du Maniglier\, Pontcharra\, Isère\, 38530\, France
END:VEVENT
BEGIN:VEVENT
DTSTART;TZID=Europe/Paris:20260423T093000
DTEND;TZID=Europe/Paris:20260423T103000
DTSTAMP:20260423T121546
CREATED:20251223T211629Z
LAST-MODIFIED:20251223T211629Z
UID:13076-1776936600-1776940200@www.centre-gentiane.fr
SUMMARY:Atelier Réflexologie bébé (0-2ans)
DESCRIPTION:Vous souhaitez partager un doux moment de détente avec votre bébé et apprendre à soulager les petits maux qui le gênent au quotidien (rhume\, troubles digestifs\, difficultés d’endormissement\, reflux\, poussées dentaires etc.) ? \nen savoir plus…
URL:https://www.centre-gentiane.fr/event/atelier-reflexologie-bebe-0-2ans-4/
LOCATION:Centre Gentiane\, 340 Rue du Maniglier\, Pontcharra\, Isère\, 38530\, France
END:VEVENT
BEGIN:VEVENT
DTSTART;TZID=Europe/Paris:20260423T121500
DTEND;TZID=Europe/Paris:20260423T131500
DTSTAMP:20260423T121546
CREATED:20251223T210423Z
LAST-MODIFIED:20251223T210423Z
UID:13035-1776946500-1776950100@www.centre-gentiane.fr
SUMMARY:Yoga Vinyasa
DESCRIPTION:  \nUne pratique de Vinyasa authentique\, ancrée\, fluide….où la respiration guide le moment. \nen savoir plus
URL:https://www.centre-gentiane.fr/event/yoga-vinyasa-27/
LOCATION:Isère
END:VEVENT
BEGIN:VEVENT
DTSTART;TZID=Europe/Paris:20260423T161500
DTEND;TZID=Europe/Paris:20260423T170000
DTSTAMP:20260423T121546
CREATED:20260306T100320Z
LAST-MODIFIED:20260306T101140Z
UID:13456-1776960900-1776963600@www.centre-gentiane.fr
SUMMARY:Feel'Pilâtes
DESCRIPTION:Feel’Forme vous propose des cours collectifs de 45 minutes de pilâtes\, \npour vous  permettre  de renforcer l’ensemble des muscles du corps et plus particulièrement les muscles en profondeur\, améliorer la posture\, l’équilibre\, la souplesse\, diminuer les maux de dos et améliorer le bien être mental ! \nen savoir plus
URL:https://www.centre-gentiane.fr/event/feelpilates/
LOCATION:Centre Gentiane\, 340 Rue du Maniglier\, Pontcharra\, Isère\, 38530\, France
END:VEVENT
BEGIN:VEVENT
DTSTART;TZID=Europe/Paris:20260423T164500
DTEND;TZID=Europe/Paris:20260423T174500
DTSTAMP:20260423T121546
CREATED:20260326T094046Z
LAST-MODIFIED:20260326T094046Z
UID:13536-1776962700-1776966300@www.centre-gentiane.fr
SUMMARY:Sophrologie
DESCRIPTION:« Un moment de connexion à soi à la rencontre de son souffle\, de ses envies\, de ses valeurs et plus encore. » \nanimé par Lucie Bongars – tél : 06 71 32 31 03
URL:https://www.centre-gentiane.fr/event/sophrologie-18/
LOCATION:Isère
END:VEVENT
BEGIN:VEVENT
DTSTART;TZID=Europe/Paris:20260423T181500
DTEND;TZID=Europe/Paris:20260423T191500
DTSTAMP:20260423T121546
CREATED:20251223T205835Z
LAST-MODIFIED:20251223T205835Z
UID:13015-1776968100-1776971700@www.centre-gentiane.fr
SUMMARY:-Viniyoga-
DESCRIPTION:Encore un yoga différent ! \nLa particularité de ce Yoga ? C’est la réelle synchronisation du souffle avec le mouvement. Le mouvement accompagne le souffle. \nen savoir plus... \n 
URL:https://www.centre-gentiane.fr/event/viniyoga-2/
LOCATION:Isère
END:VEVENT
BEGIN:VEVENT
DTSTART;TZID=Europe/Paris:20260423T193000
DTEND;TZID=Europe/Paris:20260423T203000
DTSTAMP:20260423T121546
CREATED:20251223T210014Z
LAST-MODIFIED:20251223T210014Z
UID:13021-1776972600-1776976200@www.centre-gentiane.fr
SUMMARY:-Viniyoga-
DESCRIPTION:Encore un yoga différent ! \nLa particularité de ce Yoga ? C’est la réelle synchronisation du souffle avec le mouvement. Le mouvement accompagne le souffle. \nen savoir plus... \n 
URL:https://www.centre-gentiane.fr/event/viniyoga-7/
LOCATION:Isère
END:VEVENT
BEGIN:VEVENT
DTSTART;TZID=Europe/Paris:20260423T193000
DTEND;TZID=Europe/Paris:20260423T213000
DTSTAMP:20260423T121546
CREATED:20251223T161930Z
LAST-MODIFIED:20251230T125349Z
UID:12907-1776972600-1776979800@www.centre-gentiane.fr
SUMMARY:Cercles de femmes
DESCRIPTION:Ce cercle est un lieu où toutes les femmes peuvent se rassembler\, quel que soit leur âge\, culture\, religion\, et orientation sexuelle\, où la parole et l’écoute sont au centre. Nous y venons pour partager\, échanger\, dire\, écouter\, créer du lien… \n  \nen savoir plus..
URL:https://www.centre-gentiane.fr/event/cercles-de-femmes-12/
LOCATION:Isère
END:VEVENT
END:VCALENDAR